BEGIN:VCALENDAR
VERSION:2.0
PRODID:spatie/icalendar-generator
DESCRIPTION:Events from Clinton Public Library
X-WR-CALDESC:Events from Clinton Public Library
REFRESH-INTERVAL;VALUE=DURATION:PT1440M
X-PUBLISHED-TTL:PT1440M
BEGIN:VTIMEZONE
TZID:America/New_York
BEGIN:STANDARD
DTSTART:20241103T020000Z
TZOFFSETFROM:-0400
TZOFFSETTO:-0500
END:STANDARD
BEGIN:DAYLIGHT
DTSTART:20250309T020000Z
TZOFFSETFROM:-0500
TZOFFSETTO:-0400
END:DAYLIGHT
END:VTIMEZONE
BEGIN:VTIMEZONE
TZID:UTC
BEGIN:STANDARD
DTSTART:20250728T164804Z
TZOFFSETFROM:+0000
TZOFFSETTO:+0000
END:STANDARD
END:VTIMEZONE
BEGIN:VEVENT
UID:904-805
DTSTAMP:20260424T164804Z
SUMMARY:Personal Finance with Regions Bank
LOCATION:
ORGANIZER;CN=clintonpubliclibrary:MAILTO:director@clintonpubliclibrary.org
DTSTART;TZID=America/New_York:20250324T173000
DTEND;TZID=America/New_York:20250324T183000
X-ALT-DESC;FMTTYPE=TEXT/HTML:Jessica from Regions Bank will be at the Libra
 ry to talk about \"The Importance of Saving\"
CATEGORIES:Adult Programs
URL;VALUE=URI:https://clintonpubliclibrary.org/mc-events/personal-finance-w
 ith-regions-bank/
METHOD:PUBLISH
END:VEVENT
END:VCALENDAR