BEGIN:VCALENDAR
VERSION:2.0
PRODID:spatie/icalendar-generator
DESCRIPTION:Events from Clinton Public Library
X-WR-CALDESC:Events from Clinton Public Library
REFRESH-INTERVAL;VALUE=DURATION:PT1440M
X-PUBLISHED-TTL:PT1440M
BEGIN:VTIMEZONE
TZID:America/New_York
BEGIN:STANDARD
DTSTART:20251102T020000Z
TZOFFSETFROM:-0400
TZOFFSETTO:-0500
END:STANDARD
BEGIN:DAYLIGHT
DTSTART:20260308T020000Z
TZOFFSETFROM:-0500
TZOFFSETTO:-0400
END:DAYLIGHT
END:VTIMEZONE
BEGIN:VTIMEZONE
TZID:UTC
BEGIN:STANDARD
DTSTART:20250729T154651Z
TZOFFSETFROM:+0000
TZOFFSETTO:+0000
END:STANDARD
END:VTIMEZONE
BEGIN:VEVENT
UID:1223-940
DTSTAMP:20260425T154651Z
SUMMARY:Book Babies
LOCATION:
ORGANIZER;CN=clintonpubliclibrary:MAILTO:director@clintonpubliclibrary.org
RRULE:FREQ=WEEKLY;UNTIL=20260101T000000Z
DTSTART;TZID=America/New_York:20251218T100000
DTEND;TZID=America/New_York:20251218T110000
X-ALT-DESC;FMTTYPE=TEXT/HTML:Weekly themed stories and songs for ages birth
  to two. &amp;nbsp\; December 4th - Baking December 11th - Llamas December 18t
 h - Christmas December 25th - No Program Closed
CATEGORIES:Children\'s Programs
URL;VALUE=URI:https://clintonpubliclibrary.org/mc-events/book-babies-4/?mc_
 id=1223
METHOD:PUBLISH
END:VEVENT
END:VCALENDAR