BEGIN:VCALENDAR
VERSION:2.0
PRODID:spatie/icalendar-generator
DESCRIPTION:Events from Clinton Public Library
X-WR-CALDESC:Events from Clinton Public Library
REFRESH-INTERVAL;VALUE=DURATION:PT1440M
X-PUBLISHED-TTL:PT1440M
BEGIN:VTIMEZONE
TZID:America/New_York
BEGIN:DAYLIGHT
DTSTART:20250309T020000Z
TZOFFSETFROM:-0500
TZOFFSETTO:-0400
END:DAYLIGHT
BEGIN:STANDARD
DTSTART:20251102T020000Z
TZOFFSETFROM:-0400
TZOFFSETTO:-0500
END:STANDARD
BEGIN:DAYLIGHT
DTSTART:20260308T020000Z
TZOFFSETFROM:-0500
TZOFFSETTO:-0400
END:DAYLIGHT
END:VTIMEZONE
BEGIN:VTIMEZONE
TZID:UTC
BEGIN:STANDARD
DTSTART:20250730T031955Z
TZOFFSETFROM:+0000
TZOFFSETTO:+0000
END:STANDARD
END:VTIMEZONE
BEGIN:VEVENT
UID:1204-933
DTSTAMP:20260426T031955Z
SUMMARY:Adult Computer Class
LOCATION:
ORGANIZER;CN=clintonpubliclibrary:MAILTO:director@clintonpubliclibrary.org
DTSTART;TZID=America/New_York:20251107T120000
DTEND;TZID=America/New_York:20251107T130000
X-ALT-DESC;FMTTYPE=TEXT/HTML:Everyone keeps talking about the CLOUD! But wh
 at is it really and how do I use it? Join Jessie as she explains how the c
 loud works and what you can do with it.
CATEGORIES:Adult Programs
URL;VALUE=URI:https://clintonpubliclibrary.org/mc-events/adult-computer-cla
 ss-6/
METHOD:PUBLISH
END:VEVENT
END:VCALENDAR