BEGIN:VCALENDAR
VERSION:2.0
PRODID:spatie/icalendar-generator
DESCRIPTION:Events from Clinton Public Library
X-WR-CALDESC:Events from Clinton Public Library
REFRESH-INTERVAL;VALUE=DURATION:PT1440M
X-PUBLISHED-TTL:PT1440M
BEGIN:VTIMEZONE
TZID:America/New_York
BEGIN:DAYLIGHT
DTSTART:20250309T020000Z
TZOFFSETFROM:-0500
TZOFFSETTO:-0400
END:DAYLIGHT
BEGIN:STANDARD
DTSTART:20251102T020000Z
TZOFFSETFROM:-0400
TZOFFSETTO:-0500
END:STANDARD
BEGIN:DAYLIGHT
DTSTART:20260308T020000Z
TZOFFSETFROM:-0500
TZOFFSETTO:-0400
END:DAYLIGHT
END:VTIMEZONE
BEGIN:VTIMEZONE
TZID:UTC
BEGIN:STANDARD
DTSTART:20250730T034110Z
TZOFFSETFROM:+0000
TZOFFSETTO:+0000
END:STANDARD
END:VTIMEZONE
BEGIN:VEVENT
UID:1168-920
DTSTAMP:20260426T034110Z
SUMMARY:Storytime
LOCATION:
ORGANIZER;CN=clintonpubliclibrary:MAILTO:director@clintonpubliclibrary.org
RRULE:FREQ=WEEKLY;UNTIL=20251203T000000Z
DTSTART;TZID=America/New_York:20251126T100000
DTEND;TZID=America/New_York:20251126T110000
X-ALT-DESC;FMTTYPE=TEXT/HTML:Weekly themed stories\, songs and a craft for 
 Pre-K ages (younger &amp;amp\; older siblings are also welcome!)
CATEGORIES:Children\'s Programs
URL;VALUE=URI:https://clintonpubliclibrary.org/mc-events/storytime/?mc_id=1
 168
METHOD:PUBLISH
END:VEVENT
END:VCALENDAR