BEGIN:VCALENDAR
VERSION:2.0
PRODID:spatie/icalendar-generator
DESCRIPTION:Events from Clinton Public Library
X-WR-CALDESC:Events from Clinton Public Library
REFRESH-INTERVAL;VALUE=DURATION:PT1440M
X-PUBLISHED-TTL:PT1440M
BEGIN:VTIMEZONE
TZID:America/New_York
BEGIN:DAYLIGHT
DTSTART:20250309T020000Z
TZOFFSETFROM:-0500
TZOFFSETTO:-0400
END:DAYLIGHT
BEGIN:STANDARD
DTSTART:20251102T020000Z
TZOFFSETFROM:-0400
TZOFFSETTO:-0500
END:STANDARD
END:VTIMEZONE
BEGIN:VTIMEZONE
TZID:UTC
BEGIN:STANDARD
DTSTART:20250728T121721Z
TZOFFSETFROM:+0000
TZOFFSETTO:+0000
END:STANDARD
END:VTIMEZONE
BEGIN:VEVENT
UID:1037-868
DTSTAMP:20260424T121721Z
SUMMARY:Music &amp;amp\; Movement
LOCATION:
ORGANIZER;CN=clintonpubliclibrary:MAILTO:director@clintonpubliclibrary.org
RRULE:FREQ=WEEKLY;UNTIL=20250902T000000Z
DTSTART;TZID=America/New_York:20250826T100000
DTEND;TZID=America/New_York:20250826T110000
X-ALT-DESC;FMTTYPE=TEXT/HTML:Join Ms. Sonja every Tuesday morning to shake 
 it and make some noise!
CATEGORIES:Children\'s Programs
URL;VALUE=URI:https://clintonpubliclibrary.org/mc-events/music-movement/?mc
 _id=1037
METHOD:PUBLISH
END:VEVENT
END:VCALENDAR