BEGIN:VCALENDAR
VERSION:2.0
PRODID:spatie/icalendar-generator
DESCRIPTION:Events from Clinton Public Library
X-WR-CALDESC:Events from Clinton Public Library
REFRESH-INTERVAL;VALUE=DURATION:PT1440M
X-PUBLISHED-TTL:PT1440M
BEGIN:VTIMEZONE
TZID:America/New_York
BEGIN:STANDARD
DTSTART:20241103T020000Z
TZOFFSETFROM:-0400
TZOFFSETTO:-0500
END:STANDARD
BEGIN:DAYLIGHT
DTSTART:20250309T020000Z
TZOFFSETFROM:-0500
TZOFFSETTO:-0400
END:DAYLIGHT
END:VTIMEZONE
BEGIN:VTIMEZONE
TZID:UTC
BEGIN:STANDARD
DTSTART:20250728T122317Z
TZOFFSETFROM:+0000
TZOFFSETTO:+0000
END:STANDARD
END:VTIMEZONE
BEGIN:VEVENT
UID:938-815
DTSTAMP:20260424T122317Z
SUMMARY:Family Storytime
LOCATION:
ORGANIZER;CN=clintonpubliclibrary:MAILTO:director@clintonpubliclibrary.org
RRULE:FREQ=WEEKLY;UNTIL=20250507T000000Z
DTSTART;TZID=America/New_York:20250430T100000
DTEND;TZID=America/New_York:20250430T110000
X-ALT-DESC;FMTTYPE=TEXT/HTML:Weekly themed stories\, songs and a craft for 
 Pre-K ages (younger &amp;amp\; older siblings are also welcome!)
CATEGORIES:Children\'s Programs
URL;VALUE=URI:https://clintonpubliclibrary.org/mc-events/family-storytime-6
 8/?mc_id=938
METHOD:PUBLISH
END:VEVENT
END:VCALENDAR