BEGIN:VCALENDAR
VERSION:2.0
PRODID:spatie/icalendar-generator
DESCRIPTION:Events from Clinton Public Library
X-WR-CALDESC:Events from Clinton Public Library
REFRESH-INTERVAL;VALUE=DURATION:PT1440M
X-PUBLISHED-TTL:PT1440M
BEGIN:VTIMEZONE
TZID:America/New_York
BEGIN:STANDARD
DTSTART:20241103T020000Z
TZOFFSETFROM:-0400
TZOFFSETTO:-0500
END:STANDARD
BEGIN:DAYLIGHT
DTSTART:20250309T020000Z
TZOFFSETFROM:-0500
TZOFFSETTO:-0400
END:DAYLIGHT
END:VTIMEZONE
BEGIN:VTIMEZONE
TZID:UTC
BEGIN:STANDARD
DTSTART:20250728T155252Z
TZOFFSETFROM:+0000
TZOFFSETTO:+0000
END:STANDARD
END:VTIMEZONE
BEGIN:VEVENT
UID:901-804
DTSTAMP:20260424T155252Z
SUMMARY:STEAM Kit Play with it Day
LOCATION:
ORGANIZER;CN=clintonpubliclibrary:MAILTO:director@clintonpubliclibrary.org
DTSTART;TZID=America/New_York:20250322T130000
DTEND;TZID=America/New_York:20250322T140000
X-ALT-DESC;FMTTYPE=TEXT/HTML:Come by and try out our new STEAM kits! Activi
 ties for ages 1+.
CATEGORIES:Elementary &amp; Middle School,  Children\'s Programs
URL;VALUE=URI:https://clintonpubliclibrary.org/mc-events/steam-kit-play-wit
 h-it-day/
METHOD:PUBLISH
END:VEVENT
END:VCALENDAR