BEGIN:VCALENDAR
VERSION:2.0
PRODID:spatie/icalendar-generator
DESCRIPTION:Events from Clinton Public Library
X-WR-CALDESC:Events from Clinton Public Library
REFRESH-INTERVAL;VALUE=DURATION:PT1440M
X-PUBLISHED-TTL:PT1440M
BEGIN:VTIMEZONE
TZID:America/New_York
BEGIN:STANDARD
DTSTART:20241103T020000Z
TZOFFSETFROM:-0400
TZOFFSETTO:-0500
END:STANDARD
BEGIN:DAYLIGHT
DTSTART:20250309T020000Z
TZOFFSETFROM:-0500
TZOFFSETTO:-0400
END:DAYLIGHT
END:VTIMEZONE
BEGIN:VTIMEZONE
TZID:UTC
BEGIN:STANDARD
DTSTART:20250728T141110Z
TZOFFSETFROM:+0000
TZOFFSETTO:+0000
END:STANDARD
END:VTIMEZONE
BEGIN:VEVENT
UID:864-787
DTSTAMP:20260424T141110Z
SUMMARY:Clinch River Needleworkers
LOCATION:
ORGANIZER;CN=clintonpubliclibrary:MAILTO:director@clintonpubliclibrary.org
RRULE:FREQ=WEEKLY;UNTIL=20250405T000000Z
DTSTART;TZID=America/New_York:20250301T100000
DTEND;TZID=America/New_York:20250301T110000
X-ALT-DESC;FMTTYPE=TEXT/HTML:The Clinch River Needleworkers will be in our 
 program room for a few hours each Tuesday &amp;amp\; Saturday. They are open t
 o new members! Stop by and say hi and stitch a while!
CATEGORIES:General
URL;VALUE=URI:https://clintonpubliclibrary.org/mc-events/clinch-river-needl
 eworkers-27/?mc_id=864
METHOD:PUBLISH
END:VEVENT
END:VCALENDAR