BEGIN:VCALENDAR
VERSION:2.0
PRODID:spatie/icalendar-generator
DESCRIPTION:Events from Clinton Public Library
X-WR-CALDESC:Events from Clinton Public Library
REFRESH-INTERVAL;VALUE=DURATION:PT1440M
X-PUBLISHED-TTL:PT1440M
BEGIN:VTIMEZONE
TZID:America/New_York
BEGIN:STANDARD
DTSTART:20251102T020000Z
TZOFFSETFROM:-0400
TZOFFSETTO:-0500
END:STANDARD
BEGIN:DAYLIGHT
DTSTART:20260308T020000Z
TZOFFSETFROM:-0500
TZOFFSETTO:-0400
END:DAYLIGHT
END:VTIMEZONE
BEGIN:VTIMEZONE
TZID:UTC
BEGIN:STANDARD
DTSTART:20250728T155818Z
TZOFFSETFROM:+0000
TZOFFSETTO:+0000
END:STANDARD
END:VTIMEZONE
BEGIN:VEVENT
UID:1351-996
DTSTAMP:20260424T155818Z
SUMMARY:Pellissippi Genealogical and Historical Society Meeting
LOCATION:
ORGANIZER;CN=clintonpubliclibrary:MAILTO:director@clintonpubliclibrary.org
DTSTART;TZID=America/New_York:20260226T173000
DTEND;TZID=America/New_York:20260226T183000
X-ALT-DESC;FMTTYPE=TEXT/HTML:The Pellissippi Genealogical and Historical So
 ciety meets to discuss a variety of topics.
CATEGORIES:General
URL;VALUE=URI:https://clintonpubliclibrary.org/mc-events/pellissippi-geneal
 ogical-and-historical-society-meeting/
METHOD:PUBLISH
END:VEVENT
END:VCALENDAR