BEGIN:VCALENDAR
VERSION:2.0
PRODID:spatie/icalendar-generator
DESCRIPTION:Events from Clinton Public Library
X-WR-CALDESC:Events from Clinton Public Library
REFRESH-INTERVAL;VALUE=DURATION:PT1440M
X-PUBLISHED-TTL:PT1440M
BEGIN:VTIMEZONE
TZID:America/New_York
BEGIN:DAYLIGHT
DTSTART:20250309T020000Z
TZOFFSETFROM:-0500
TZOFFSETTO:-0400
END:DAYLIGHT
BEGIN:STANDARD
DTSTART:20251102T020000Z
TZOFFSETFROM:-0400
TZOFFSETTO:-0500
END:STANDARD
BEGIN:DAYLIGHT
DTSTART:20260308T020000Z
TZOFFSETFROM:-0500
TZOFFSETTO:-0400
END:DAYLIGHT
END:VTIMEZONE
BEGIN:VTIMEZONE
TZID:UTC
BEGIN:STANDARD
DTSTART:20250730T001409Z
TZOFFSETFROM:+0000
TZOFFSETTO:+0000
END:STANDARD
END:VTIMEZONE
BEGIN:VEVENT
UID:1176-922
DTSTAMP:20260426T001409Z
SUMMARY:Teenspace
LOCATION:
ORGANIZER;CN=clintonpubliclibrary:MAILTO:director@clintonpubliclibrary.org
RRULE:FREQ=WEEKLY;UNTIL=20251203T000000Z
DTSTART;TZID=America/New_York:20251126T141500
DTEND;TZID=America/New_York:20251126T151500
X-ALT-DESC;FMTTYPE=TEXT/HTML:Every Wednesday\, teens can come hang out in o
 ur program room! Play games\, make videos\, and hang out with friends!
CATEGORIES:Teens
URL;VALUE=URI:https://clintonpubliclibrary.org/mc-events/teenspace-5/?mc_id
 =1176
METHOD:PUBLISH
END:VEVENT
END:VCALENDAR