BEGIN:VCALENDAR
VERSION:2.0
PRODID:spatie/icalendar-generator
DESCRIPTION:Events from Clinton Public Library
X-WR-CALDESC:Events from Clinton Public Library
REFRESH-INTERVAL;VALUE=DURATION:PT1440M
X-PUBLISHED-TTL:PT1440M
BEGIN:VTIMEZONE
TZID:America/New_York
BEGIN:DAYLIGHT
DTSTART:20250309T020000Z
TZOFFSETFROM:-0500
TZOFFSETTO:-0400
END:DAYLIGHT
BEGIN:STANDARD
DTSTART:20251102T020000Z
TZOFFSETFROM:-0400
TZOFFSETTO:-0500
END:STANDARD
END:VTIMEZONE
BEGIN:VTIMEZONE
TZID:UTC
BEGIN:STANDARD
DTSTART:20250728T141331Z
TZOFFSETFROM:+0000
TZOFFSETTO:+0000
END:STANDARD
END:VTIMEZONE
BEGIN:VEVENT
UID:1057-878
DTSTAMP:20260424T141331Z
SUMMARY:Adult Computer Class
LOCATION:
ORGANIZER;CN=clintonpubliclibrary:MAILTO:director@clintonpubliclibrary.org
DTSTART;TZID=America/New_York:20250815T120000
DTEND;TZID=America/New_York:20250815T130000
X-ALT-DESC;FMTTYPE=TEXT/HTML:Join Jessie to explore how to create\, edit\, 
 and save text documents!
CATEGORIES:Adult Programs
URL;VALUE=URI:https://clintonpubliclibrary.org/mc-events/adult-computer-cla
 ss-2/
METHOD:PUBLISH
END:VEVENT
END:VCALENDAR