BEGIN:VCALENDAR
VERSION:2.0
PRODID:spatie/icalendar-generator
DESCRIPTION:Events from Clinton Public Library
X-WR-CALDESC:Events from Clinton Public Library
REFRESH-INTERVAL;VALUE=DURATION:PT1440M
X-PUBLISHED-TTL:PT1440M
BEGIN:VTIMEZONE
TZID:America/New_York
BEGIN:DAYLIGHT
DTSTART:20250309T020000Z
TZOFFSETFROM:-0500
TZOFFSETTO:-0400
END:DAYLIGHT
BEGIN:STANDARD
DTSTART:20251102T020000Z
TZOFFSETFROM:-0400
TZOFFSETTO:-0500
END:STANDARD
END:VTIMEZONE
BEGIN:VTIMEZONE
TZID:UTC
BEGIN:STANDARD
DTSTART:20250728T133402Z
TZOFFSETFROM:+0000
TZOFFSETTO:+0000
END:STANDARD
END:VTIMEZONE
BEGIN:VEVENT
UID:1056-877
DTSTAMP:20260424T133402Z
SUMMARY:United Way Mobile Office Hours
LOCATION:
ORGANIZER;CN=clintonpubliclibrary:MAILTO:director@clintonpubliclibrary.org
DTSTART;TZID=America/New_York:20250814T090000
DTEND;TZID=America/New_York:20250814T120000
X-ALT-DESC;FMTTYPE=TEXT/HTML:Representative from United Way will be at a ta
 ble in the library to assist community member.
CATEGORIES:Adult Programs
URL;VALUE=URI:https://clintonpubliclibrary.org/mc-events/united-way-mobile-
 office-hours/
METHOD:PUBLISH
END:VEVENT
END:VCALENDAR